BEGIN:VCALENDAR
VERSION:2.0
PRODID:-//ARKADIN CINEMA &amp; BAR - ECPv6.15.20//NONSGML v1.0//EN
CALSCALE:GREGORIAN
METHOD:PUBLISH
X-WR-CALNAME:ARKADIN CINEMA &amp; BAR
X-ORIGINAL-URL:https://arkadincinema.com
X-WR-CALDESC:Events for ARKADIN CINEMA &amp; BAR
REFRESH-INTERVAL;VALUE=DURATION:PT1H
X-Robots-Tag:noindex
X-PUBLISHED-TTL:PT1H
BEGIN:VTIMEZONE
TZID:America/Chicago
BEGIN:DAYLIGHT
TZOFFSETFROM:-0600
TZOFFSETTO:-0500
TZNAME:CDT
DTSTART:20240310T080000
END:DAYLIGHT
BEGIN:STANDARD
TZOFFSETFROM:-0500
TZOFFSETTO:-0600
TZNAME:CST
DTSTART:20241103T070000
END:STANDARD
BEGIN:DAYLIGHT
TZOFFSETFROM:-0600
TZOFFSETTO:-0500
TZNAME:CDT
DTSTART:20250309T080000
END:DAYLIGHT
BEGIN:STANDARD
TZOFFSETFROM:-0500
TZOFFSETTO:-0600
TZNAME:CST
DTSTART:20251102T070000
END:STANDARD
BEGIN:DAYLIGHT
TZOFFSETFROM:-0600
TZOFFSETTO:-0500
TZNAME:CDT
DTSTART:20260308T080000
END:DAYLIGHT
BEGIN:STANDARD
TZOFFSETFROM:-0500
TZOFFSETTO:-0600
TZNAME:CST
DTSTART:20261101T070000
END:STANDARD
END:VTIMEZONE
BEGIN:VEVENT
DTSTART;TZID=America/Chicago:20250424T190000
DTEND;TZID=America/Chicago:20250424T210000
DTSTAMP:20260423T031328
CREATED:20250310T212845Z
LAST-MODIFIED:20250310T215100Z
UID:6071-1745521200-1745528400@arkadincinema.com
SUMMARY:REVENGE (2017)\, a fundraiser for Missouri Abortion Fund presented by Hysteria Fest
DESCRIPTION:BUY TICKETS\n\n\n\n\n\n\n\n\n\n\nThis screening is a fundraiser for Missouri Abortion Fund – all proceeds will be donated to MOAF!  \n\n\n\n“Revenge is the film we need right now\, from a filmmaker we need right now: French writer/director Coralie Fargeat\, who makes her stunning feature debut with a rape-revenge fantasy that’s as brutal as it is thrilling.” – Christy Lemire\, RogerEbert.com \n\n\n\nThe debut film by Coralie Fargeat\, the Oscar-nominated director of The Substance\, REVENGE is a blood-soaked\, sun-baked thriller with an unrepentantly feminist spin. Jen is enjoying a romantic getaway with her wealthy boyfriend until his two sleazy friends arrive for an unannounced hunting trip. As tension mounts in the house\, the situation abruptly and viciously intensifies\, culminating in a shocking act that leaves Jen brutalized and left for dead. Unfortunately for her assailants\, she survives and soon begins a relentless quest for bloody revenge. \n\n\n\nPlease choose your donation about when adding your ticket to the cart. Suggested minimum donation is $10. Each donation secures one ticket to the screening. For example\, you can submit two $15 donations for two tickets. \n\n\n\nThis fundraiser is presented by Hysteria Fest\, St. Louis’ International Horror Film Festival. \n\n\n\n\n\n\n\n\n\nArkadin does not generally provide advisories about subject matter or potentially triggering content in films\, as sensitivities vary from person to person. However\, we encourage researching titles to determine if a screening may contain content that could be upsetting to you. Please feel free to contact us for guidance on specific films. Information about content can also be found on Common Sense Media\, IMDB and DoesTheDogDie.com\, as well as through general internet searches. \n\n\n\n\n\n\n\n\nTheater Policies\n\n\n\n\n\n\nAll seats are first-come\, first-served.\n\n\n\nThe theater opens 30 minutes prior to showtime\, except for “Happy Hour” events and pre-shows when the theater opens at the listed start time.\n\n\n\nAll ages are welcome at Arkadin except for Drinkolas Cage events\, which are restricted to 21+. We follow the MPAA rating guidelines for all other films.\n\n\n\nTickets can be purchased using the BUY TICKETS link above. Upon ordering\, you will receive a confirmation email from Square. Tickets may also be purchased on the day of the show at the concession counter.\n\n\n\nIf you’ve purchased advance tickets\, when you arrive\, please give your name at the concession counter to check in. \n\n\n\nTickets are returnable by sending a request through the contact form located on our About Us page prior to showtime.\n\n\n\nWhen an event is sold out\, we reserve the right to release open seats to customers on the waitlist. If you have a pre-purchased ticket and arrive late and there is no seat for you\, your ticket will be refunded.\n\n\n\nAll screenings are held in our indoor theater unless indicated otherwise in the event description above.\n\n\n\nPlease respect your fellow movie-goers by remaining quiet and refraining from using your cell phone throughout the screening.
URL:https://arkadincinema.com/event/revenge-2017-a-fundraiser-for-missouri-abortion-fund-presented-by-hysteria-fest/
CATEGORIES:Recurring Series
ATTACH;FMTTYPE=image/jpeg:https://arkadincinema.com/wp-content/uploads/2025/03/rev-1.jpg
END:VEVENT
BEGIN:VEVENT
DTSTART;TZID=America/Chicago:20250423T190000
DTEND;TZID=America/Chicago:20250423T210000
DTSTAMP:20260423T031328
CREATED:20250321T210510Z
LAST-MODIFIED:20250324T044734Z
UID:6176-1745434800-1745442000@arkadincinema.com
SUMMARY:CATS ON PARK AVENUE (1989) w/ Garfield & Friends pre-show @ 6:30 pm
DESCRIPTION:BUY TICKETS\n\n\n\n\n\n\n\n\n\n\n“The most bonkers film I’ve seen in ages. A film about Shibuya streetcats that’s beyond exuberant and ridiculous.” – Karamashi\, Letterboxd \n\n\n\nCombining adorable street-cat footage\, ultra-’80s musical sequences\, strange animated interludes\, and teen melodrama\, CATS ON PARK AVENUE is a singular pop-art fantasia. Amid the winding back alleys of Shibuya\, where cats roam the rooftops\, a group of young dancers prepare for a stage musical based on those very street cats! Featuring synth-tastic City Pop bangers\, such as the self-explanatory “We Love Cats!\,” CATS ON PARK AVENUE is a day-glo dream packed with nearly as much candid cat footage as dialogue. \n\n\n\nCome out early for a pre-show devoted to everyone’s favorite lasagna-munching Monday-loathing feline\, Garfield\, starting at 6:30 pm. \n\n\n\nThis film is screening as part of Arkadin’s series ANIMALIA MANIA\, which spotlights films heavily featuring non-human creatures — some friendly\, others deadly. \n\n\n\n\n\n\n\n\n\nArkadin does not generally provide advisories about subject matter or potentially triggering content in films\, as sensitivities vary from person to person. However\, we encourage researching titles to determine if a screening may contain content that could be upsetting to you. Please feel free to contact us for guidance on specific films. Information about content can also be found on Common Sense Media\, IMDB and DoesTheDogDie.com\, as well as through general internet searches. \n\n\n\n\n\n\n\n\nTheater Policies\n\n\n\n\n\n\nAll seats are first-come\, first-served.\n\n\n\nThe theater opens 30 minutes prior to showtime\, except for “Happy Hour” events and pre-shows when the theater opens at the listed start time.\n\n\n\nAll ages are welcome at Arkadin except for Drinkolas Cage events\, which are restricted to 21+. We follow the MPAA rating guidelines for all other films.\n\n\n\nTickets can be purchased using the BUY TICKETS link above. Upon ordering\, you will receive a confirmation email from Square. Tickets may also be purchased on the day of the show at the concession counter.\n\n\n\nIf you’ve purchased advance tickets\, when you arrive\, please give your name at the concession counter to check in. \n\n\n\nTickets are returnable by sending a request through the contact form located on our About Us page prior to showtime.\n\n\n\nWhen an event is sold out\, we reserve the right to release open seats to customers on the waitlist. If you have a pre-purchased ticket and arrive late and there is no seat for you\, your ticket will be refunded.\n\n\n\nAll screenings are held in our indoor theater unless indicated otherwise in the event description above.\n\n\n\nPlease respect your fellow movie-goers by remaining quiet and refraining from using your cell phone throughout the screening.
URL:https://arkadincinema.com/event/cats-on-park-avenue-1989-w-garfield-friends-pre-show-6-30-pm/
CATEGORIES:Animalia Mania
ATTACH;FMTTYPE=image/jpeg:https://arkadincinema.com/wp-content/uploads/2025/03/40.jpg
END:VEVENT
END:VCALENDAR